BEGIN:VCALENDAR
VERSION:2.0
PRODID:-//La Lonja - ECPv6.15.11//NONSGML v1.0//EN
CALSCALE:GREGORIAN
METHOD:PUBLISH
X-WR-CALNAME:La Lonja
X-ORIGINAL-URL:https://app-aphazwpnit.azurewebsites.net/en/
X-WR-CALDESC:Events for La Lonja
REFRESH-INTERVAL;VALUE=DURATION:PT1H
X-Robots-Tag:noindex
X-PUBLISHED-TTL:PT1H
BEGIN:VTIMEZONE
TZID:UTC
BEGIN:STANDARD
TZOFFSETFROM:+0000
TZOFFSETTO:+0000
TZNAME:UTC
DTSTART:20220101T000000
END:STANDARD
END:VTIMEZONE
BEGIN:VEVENT
DTSTART;TZID=UTC:20231026T100000
DTEND;TZID=UTC:20231026T123000
DTSTAMP:20260421T120137
CREATED:20231004T053143Z
LAST-MODIFIED:20251203T131948Z
UID:3006-1698314400-1698323400@app-aphazwpnit.azurewebsites.net
SUMMARY:Demo Day La Lonja de la Innovación: I﻿nnovar para impulsar los sectores industriales
DESCRIPTION:La Lonja de la Innovación tiene el placer de invitarte al Demo Day donde 10 startups presentarán las soluciones desarrolladas en distintos sectores industriales. \nLa iniciativa presenta en esta ocasión empresas con ADN innovador de sectores tan prometedores como el logístico portuario\, el industrial\, la sostenibilidad\, Smart City\, agua\, o gestión de residuos\, entre otros. \nVen a descubrirlas\, conocerlas en detalle\, forjar interesantes colaboraciones y contactos comerciales para la industria\, e incluso contratarlas. ? \nEn esta jornada\, tras una bienvenida al evento\, las empresas participantes expondrán su solución a los asistentes para que puedan conocer de primera mano los proyectos. \nUna vez finalizadas todas las presentaciones\, los asistentes tendrán la oportunidad de conversar más en detalle con las empresas interesadas así como una sesión de networking para finalizar el evento. \nAccede al evento para descubrir las startups que podrás conocer en el Demo Day de La Lonja de la Innovación. \n  \n¡Apúntate aquí! \n 
URL:https://app-aphazwpnit.azurewebsites.net/en/evento/demo-day-la-lonja-de-la-innovacion-sectores-industriales/
LOCATION:La Lonja de la Innovación
END:VEVENT
END:VCALENDAR