BEGIN:VCALENDAR
VERSION:2.0
PRODID:-//La Lonja - ECPv6.15.11//NONSGML v1.0//EN
CALSCALE:GREGORIAN
METHOD:PUBLISH
X-WR-CALNAME:La Lonja
X-ORIGINAL-URL:https://app-aphazwpnit.azurewebsites.net/en/
X-WR-CALDESC:Events for La Lonja
REFRESH-INTERVAL;VALUE=DURATION:PT1H
X-Robots-Tag:noindex
X-PUBLISHED-TTL:PT1H
BEGIN:VTIMEZONE
TZID:UTC
BEGIN:STANDARD
TZOFFSETFROM:+0000
TZOFFSETTO:+0000
TZNAME:UTC
DTSTART:20220101T000000
END:STANDARD
END:VTIMEZONE
BEGIN:VEVENT
DTSTART;TZID=UTC:20230607T170000
DTEND;TZID=UTC:20230607T190000
DTSTAMP:20260421T184018
CREATED:20230329T055618Z
LAST-MODIFIED:20260128T130855Z
UID:2228-1686157200-1686164400@app-aphazwpnit.azurewebsites.net
SUMMARY:Formación Lean Startup Academy: Sesión Motores y escenarios de crecimiento
DESCRIPTION:La Lonja de la Innovación lanza el programa de formación Lean Startup Academy basado en innovación para que las startups y emprendedores puedan hacer crecer sus proyectos basándose en metodologías ágiles. \nEste programa será impartido por Juan Manuel Barrionuevo\, Executive Chairman de Copernion; y Alfredo Montilla\, CEO y co-fundador de STEMDO. \nEl programa contará con 6 sesiones presenciales que comienzan el próximo día 19 de abril\, extendiéndose hasta el 21 de junio. \nEl programa: \n- Sesión Metodología Lean startup y Business Model Canvas - miércoles 19 abril de 17:00 a 19:00. \n- Sesión Mercado y modelo de negocio - miércoles 26 abril de 17:00 a 19:00. \n- Sesión Producto mínimo viable - miércoles 10 mayo de 17:00 a 19:00. \n- Sesión Evolución de producto: validación de hipotesis y pivotajes - miércoles 24 mayo de 17:00 a 19:00. \n- Sesión Motores y escenarios de crecimiento - miércoles 7 junio de 17:00 a 19:00. \n- Sesión Financiación del proyecto y principales métricas de seguimiento - miércoles 21 junio de 17:00 a 19:00. \n  \n¡Apúntate aquí! \n  \n \n 
URL:https://app-aphazwpnit.azurewebsites.net/en/evento/formacion-lean-startup-academy-sesion-motores-y-escenarios-de-crecimiento/
LOCATION:La Lonja de la Innovación
END:VEVENT
BEGIN:VEVENT
DTSTART;TZID=UTC:20230621T170000
DTEND;TZID=UTC:20230621T190000
DTSTAMP:20260421T184018
CREATED:20230329T055717Z
LAST-MODIFIED:20251203T193606Z
UID:2230-1687366800-1687374000@app-aphazwpnit.azurewebsites.net
SUMMARY:Formación Lean Startup Academy: Sesión Financiación del proyecto y principales métricas de seguimiento
DESCRIPTION:La Lonja de la Innovación lanza el programa de formación Lean Startup Academy basado en innovación para que las startups y emprendedores puedan hacer crecer sus proyectos basándose en metodologías ágiles. \nEste programa será impartido por Juan Manuel Barrionuevo\, Executive Chairman de Copernion; y Alfredo Montilla\, CEO y co-fundador de STEMDO. \nEl programa contará con 6 sesiones presenciales que comienzan el próximo día 19 de abril\, extendiéndose hasta el 21 de junio. \nEl programa: \n- Sesión Metodología Lean startup y Business Model Canvas - miércoles 19 abril de 17:00 a 19:00. \n- Sesión Mercado y modelo de negocio - miércoles 26 abril de 17:00 a 19:00. \n- Sesión Producto mínimo viable - miércoles 10 mayo de 17:00 a 19:00. \n- Sesión Evolución de producto: validación de hipotesis y pivotajes - miércoles 24 mayo de 17:00 a 19:00. \n- Sesión Motores y escenarios de crecimiento - miércoles 7 junio de 17:00 a 19:00. \n- Sesión Financiación del proyecto y principales métricas de seguimiento - miércoles 21 junio de 17:00 a 19:00. \n  \n¡Apúntate aquí! \n  \n \n 
URL:https://app-aphazwpnit.azurewebsites.net/en/evento/formacion-lean-startup-academy-sesion-financiacion-del-proyecto-y-principales-metricas-de-seguimiento/
LOCATION:La Lonja de la Innovación
END:VEVENT
END:VCALENDAR