BEGIN:VCALENDAR
VERSION:2.0
PRODID:-//La Lonja - ECPv6.15.11//NONSGML v1.0//EN
CALSCALE:GREGORIAN
METHOD:PUBLISH
X-ORIGINAL-URL:https://app-aphazwpnit.azurewebsites.net/en/
X-WR-CALDESC:Events for La Lonja
REFRESH-INTERVAL;VALUE=DURATION:PT1H
X-Robots-Tag:noindex
X-PUBLISHED-TTL:PT1H
BEGIN:VTIMEZONE
TZID:UTC
BEGIN:STANDARD
TZOFFSETFROM:+0000
TZOFFSETTO:+0000
TZNAME:UTC
DTSTART:20220101T000000
END:STANDARD
END:VTIMEZONE
BEGIN:VEVENT
DTSTART;TZID=UTC:20230222T103000
DTEND;TZID=UTC:20230222T133000
DTSTAMP:20260422T002610
CREATED:20230210T072908Z
LAST-MODIFIED:20260128T132210Z
UID:1912-1677061800-1677072600@app-aphazwpnit.azurewebsites.net
SUMMARY:II Open Day en La Lonja de la Innovación
DESCRIPTION:El miércoles 22 de febrero de 2023 celebramos una nueva jornada "II Open Day 2023 La Lonja de la Innovación". \nEl evento tendrá lugar en nuestras instalaciones a partir de las 10:30. \nLos emprendedores tendrán la oportunidad de conocer en qué consiste la iniciativa y su metodología de aceleración\, así como recibir mentorización personalizada y gratuita para su proyecto por parte de algunos de los mentores de la iniciativa. En concreto\, puedes aprovechar la jornada para conocer a nuestros mentores: \n- Andres Vidal\, experto en Comunicación. \n- Manuel García Palomo\, experto en Recursos Humanos. \n- Javier Medel\, experto en Modelo de negocio. \nSi quieres participar\, por favor\, confirma tu asistencia a través del formulario de Eventbrite y responde a algunas preguntas que nos serán de utilidad para que aproveches al máximo la jornada. ¡El registro garantiza tu plaza! Un día antes del evento te enviaremos un email explicativo con el procedimiento para acceder al encuentro y los mentores asignados para cada sesión. \nMuchas gracias por tu tiempo y ¡nos vemos pronto! \n  \n¡Apúntate aquí! \n 
URL:https://app-aphazwpnit.azurewebsites.net/en/evento/ii-open-day-en-la-lonja-de-la-innovacion/
LOCATION:La Lonja de la Innovación
END:VEVENT
BEGIN:VEVENT
DTSTART;TZID=UTC:20230224T100000
DTEND;TZID=UTC:20230224T120000
DTSTAMP:20260422T002610
CREATED:20230222T090639Z
LAST-MODIFIED:20251203T131807Z
UID:2033-1677232800-1677240000@app-aphazwpnit.azurewebsites.net
SUMMARY:1ª Sesión Curso FIWARE | Con Lisandra Tamayo\, dinamizadora FIWARE
DESCRIPTION:La Lonja de la Innovación organiza la I Edición de Curso FIWARE\, de la mano de Lisandra Tamayo\, dinamizadora FIWARE de la iniciativa en las instalaciones del hub en el Puerto de Huelva. \nEste curso tendrá una duración de 13 horas\, 6 presenciales y 7 horas de trabajo en equipo con actividades prácticas. \nCurso presencial: 24 de febrero\, 6 y 8 de marzo de 10:00 a 12:00 horas. \nLa formación es una excelente oportunidad para conocer el ecosistema FIWARE de primera mano en el primer FIWARE iHub logístico - portuario del mundo\, La Lonja de la Innovación. \n¡Inscríbete! \n¡Apúntate aquí! \n  \n 
URL:https://app-aphazwpnit.azurewebsites.net/en/evento/curso-fiware-con-lisandra-tamayo-dinamizadora-fiware/
LOCATION:La Lonja de la Innovación
END:VEVENT
END:VCALENDAR