BEGIN:VCALENDAR
VERSION:2.0
PRODID:-//La Lonja - ECPv6.15.11//NONSGML v1.0//EN
CALSCALE:GREGORIAN
METHOD:PUBLISH
X-WR-CALNAME:La Lonja
X-ORIGINAL-URL:https://app-aphazwpnit.azurewebsites.net/en/
X-WR-CALDESC:Events for La Lonja
REFRESH-INTERVAL;VALUE=DURATION:PT1H
X-Robots-Tag:noindex
X-PUBLISHED-TTL:PT1H
BEGIN:VTIMEZONE
TZID:UTC
BEGIN:STANDARD
TZOFFSETFROM:+0000
TZOFFSETTO:+0000
TZNAME:UTC
DTSTART:20220101T000000
END:STANDARD
END:VTIMEZONE
BEGIN:VEVENT
DTSTART;TZID=UTC:20230118T170000
DTEND;TZID=UTC:20230118T190000
DTSTAMP:20260422T015123
CREATED:20221228T070951Z
LAST-MODIFIED:20251203T125406Z
UID:1512-1674061200-1674068400@app-aphazwpnit.azurewebsites.net
SUMMARY:Charla Casos de Éxito con Claudio Lozano
DESCRIPTION:El próximo evento organizado en La Lonja de la Innovación será una nueva charla de casos de éxito\, en este caso del onubense Claudio Lozano Guerra-Librero. \n¿De qué hablaremos? \nLos asistentes podrán descubrir la experiencia inspiracional de Claudio Lozano\, arqueólogo subacuático español que pertenece al grupo de investigación de geociencias aplicadas de la Universidad de Huelva. \nHa dirigido numerosos proyectos arqueológicos en España y en el extranjero\, y ha participado en numerosos proyectos de investigación y teledetección a alta profundidad desde 1999 hasta el presente. \nHa participado en mas de veinte documentales de las principales cadenas National Geographic\, Movistar+\, Discovery Channel\, DMax\, History Channel\, Disney+\, etc... como el estrenado el pasado 19 de diciembre en National Geographic "Tartessos" donde Claudio Lozano ha contado su experiencia para también presentar Tartessos al mundo. \nActualmente codirige el proyecto de desarrollo de la Carta Arqueológica de Costa Rica\, participa en un consorcio de exploración del océano profundo en Nueva Zelanda y desarrolla el Proyecto Rey Gerión en la Ensenada de Huelva. \nNo te lo puedes perder. Ven y descubre un nuevo caso de éxito local con este gran ejemplo de emprendedor innovador ?. \n  \n¡Inscríbete!
URL:https://app-aphazwpnit.azurewebsites.net/en/evento/charla-casos-de-exito-con-claudio-lozano/
LOCATION:La Lonja de la Innovación
END:VEVENT
BEGIN:VEVENT
DTSTART;TZID=UTC:20230118T170000
DTEND;TZID=UTC:20230118T190000
DTSTAMP:20260422T015123
CREATED:20230109T144306Z
LAST-MODIFIED:20251112T172423Z
UID:1647-1674061200-1674068400@app-aphazwpnit.azurewebsites.net
SUMMARY:Claudio Lozano Masterclass
DESCRIPTION:
URL:https://app-aphazwpnit.azurewebsites.net/en/evento/claudio-lozano-masterclass/
LOCATION:La Lonja de la Innovación
END:VEVENT
BEGIN:VEVENT
DTSTART;TZID=UTC:20230126T103000
DTEND;TZID=UTC:20230126T170000
DTSTAMP:20260422T015123
CREATED:20230116T120953Z
LAST-MODIFIED:20260128T132018Z
UID:1679-1674729000-1674752400@app-aphazwpnit.azurewebsites.net
SUMMARY:I Open Day 2023 La Lonja
DESCRIPTION:El jueves 26 de enero de 2023 celebramos una nueva jornada "I Open Day 2023 La Lonja de la Innovación". \nEl evento tendrá lugar en nuestras instalaciones a partir de las 10:30. \nLos emprendedores tendrán la oportunidad de conocer en qué consiste la iniciativa y su metodología de aceleración\, así como recibir mentorización personalizada y gratuita para su proyecto por parte de algunos de los mentores de la iniciativa. En concreto\, puedes aprovechar la jornada para conocer a nuestros mentores: \n- Adela de Mora\, mentora validación de hipótesis \n- Alejandro Villarán Vázquez\, mentor modelo de negocio \n- Miguel Ángel Torres\, mentor de tecnología \n- Chio Díez\, mentora de marketing\, branding & UX/UI \nSi quieres participar\, por favor\, confirma tu asistencia a través del formulario de Eventbrite y responde a algunas preguntas que nos serán de utilidad para que aproveches al máximo la jornada. ¡El registro garantiza tu plaza! Un día antes del evento te enviaremos un email explicativo con el procedimiento para acceder al encuentro y los mentores asignados para cada sesión. \nMuchas gracias por tu tiempo y ¡nos vemos pronto! \n  \n¡Apúntate aquí! \n 
URL:https://app-aphazwpnit.azurewebsites.net/en/evento/i-open-day-2023-la-lonja/
LOCATION:La Lonja de la Innovación
END:VEVENT
END:VCALENDAR