BEGIN:VCALENDAR
VERSION:2.0
PRODID:-//La Lonja - ECPv6.15.11//NONSGML v1.0//EN
CALSCALE:GREGORIAN
METHOD:PUBLISH
X-WR-CALNAME:La Lonja
X-ORIGINAL-URL:https://app-aphazwpnit.azurewebsites.net/en/
X-WR-CALDESC:Events for La Lonja
REFRESH-INTERVAL;VALUE=DURATION:PT1H
X-Robots-Tag:noindex
X-PUBLISHED-TTL:PT1H
BEGIN:VTIMEZONE
TZID:UTC
BEGIN:STANDARD
TZOFFSETFROM:+0000
TZOFFSETTO:+0000
TZNAME:UTC
DTSTART:20210101T000000
END:STANDARD
END:VTIMEZONE
BEGIN:VEVENT
DTSTART;VALUE=DATE:20221018
DTEND;VALUE=DATE:20221019
DTSTAMP:20260422T063716
CREATED:20221007T085020Z
LAST-MODIFIED:20260129T144236Z
UID:1183-1666051200-1666137599@app-aphazwpnit.azurewebsites.net
SUMMARY:Jornadas técnicas transfronterizas España-Portugal
DESCRIPTION:La Lonja participa en las próximas Jornadas técnicas transfronterizas España-Portugal sobre Innovación azul en ecosistemas portuarios que\, junto al Campus de Excelencia del Mar\, va a realizar el CMMA en Algeciras el día 18 de octubre\, martes\, a partir de las 9.15 horas de la mañana. Estas tendrán lugar en el auditorio Millán Picazo de Algeciras (Paseo de la Conferencia S/N). \nMafran Martinez\, CTO de Autoridad Portuaria de Huelva participa definitivamente en las jornadas técnicas transfronterizas España-Portugal. \n¡Inscríbete aquí! \n  \n 
URL:https://app-aphazwpnit.azurewebsites.net/en/evento/jornadas-tecnicas-transfronterizas-espana-portugal/
END:VEVENT
BEGIN:VEVENT
DTSTART;TZID=UTC:20221020T123000
DTEND;TZID=UTC:20221020T133500
DTSTAMP:20260422T063716
CREATED:20221017T094350Z
LAST-MODIFIED:20251112T164147Z
UID:1208-1666269000-1666272900@app-aphazwpnit.azurewebsites.net
SUMMARY:Jornada informativa | Financiación de start-ups innovadoras: ¿dónde y cómo encontrarla?
DESCRIPTION:La Lonja de la innovación acogerá el día 20 de octubre un evento de la Cámara de Comercio de Huelva junto con el Consejo Andaluz de Cámaras de Comercio para la 2º edición de Startup Andalucía Roadshow\, la cual reconoce a las mejores startups de la comunidad mediante un proceso de selección por provincias. El evento que tendrá lugar en La Lonja consistirá en una jornada informativa\, impartida por Ismael Guerrero\, sobre "Financiación de Startups Innovadoras" a las 12:30 horas. \n 
URL:https://app-aphazwpnit.azurewebsites.net/en/evento/jornada-informativa-financiacion-de-start-ups-innovadoras-donde-y-como-encontrarla/
LOCATION:La Lonja de la Innovación
END:VEVENT
END:VCALENDAR