BEGIN:VCALENDAR
VERSION:2.0
PRODID:-//La Lonja - ECPv6.15.11//NONSGML v1.0//EN
CALSCALE:GREGORIAN
METHOD:PUBLISH
X-WR-CALNAME:La Lonja
X-ORIGINAL-URL:https://app-aphazwpnit.azurewebsites.net/en/
X-WR-CALDESC:Events for La Lonja
REFRESH-INTERVAL;VALUE=DURATION:PT1H
X-Robots-Tag:noindex
X-PUBLISHED-TTL:PT1H
BEGIN:VTIMEZONE
TZID:UTC
BEGIN:STANDARD
TZOFFSETFROM:+0000
TZOFFSETTO:+0000
TZNAME:UTC
DTSTART:20210101T000000
END:STANDARD
END:VTIMEZONE
BEGIN:VEVENT
DTSTART;VALUE=DATE:20220907
DTEND;VALUE=DATE:20220908
DTSTAMP:20260422T082258
CREATED:20220902T130126Z
LAST-MODIFIED:20260129T144916Z
UID:1111-1662508800-1662595199@app-aphazwpnit.azurewebsites.net
SUMMARY:La Lonja en la Semana Portuaria de la UIMP
DESCRIPTION:¡La Lonja participará en la Semana Portuaria de la UIMP! \nRocío Díaz Pereira\, directora del hub de La Lonja estará el día 7 de septiembre en el encuentro "La transformación digital de los puertos: nuevas tecnologías\, nuevas formas de pensar y actuar" \nTe dejamos el programa completo aquí: \n 
URL:https://app-aphazwpnit.azurewebsites.net/en/evento/la-lonja-en-la-semana-portuaria-de-la-uimp/
END:VEVENT
BEGIN:VEVENT
DTSTART;VALUE=DATE:20220914
DTEND;VALUE=DATE:20220916
DTSTAMP:20260422T082259
CREATED:20220902T073103Z
LAST-MODIFIED:20260129T144608Z
UID:1099-1663113600-1663286399@app-aphazwpnit.azurewebsites.net
SUMMARY:La Lonja en el FIWARE Global Summit
DESCRIPTION:¡La Lonja estará presente en la nueva edición del FIWARE Global Summit! \nComo no podía ser de otra forma\, siendo el primer FIWARE iHub del sector logístico portuario\, estaremos el 14 y 15 de septiembre en el evento FIWARE del año. \nNuestro dinaminzador FIWARE\, Manuel Bravo Santiago conducirá una charla el día 15 de septiembre a las 12:00 para presentar La Lonja de la Innovación como FIWARE iHub en el Hall Roque Nublo. \nMafran Martinez\, CTO de Autoridad Portuaria de Huelva presentará la charla "The port as a driving force for innovation in the region" el 15 de septiembre a las 12:30 en el Hall Roque Nuble. \nNo te pierdas nuestras participaciones en el #FIWAREGlobalSummit\, ¡y visítanos en nuestro stand! \nPrograma completo \n 
URL:https://app-aphazwpnit.azurewebsites.net/en/evento/la-lonja-en-el-fiware-global-summit/
END:VEVENT
END:VCALENDAR