BEGIN:VCALENDAR
VERSION:2.0
PRODID:-//La Lonja - ECPv6.15.11//NONSGML v1.0//EN
CALSCALE:GREGORIAN
METHOD:PUBLISH
X-WR-CALNAME:La Lonja
X-ORIGINAL-URL:https://app-aphazwpnit.azurewebsites.net/en/
X-WR-CALDESC:Events for La Lonja
REFRESH-INTERVAL;VALUE=DURATION:PT1H
X-Robots-Tag:noindex
X-PUBLISHED-TTL:PT1H
BEGIN:VTIMEZONE
TZID:UTC
BEGIN:STANDARD
TZOFFSETFROM:+0000
TZOFFSETTO:+0000
TZNAME:UTC
DTSTART:20210101T000000
END:STANDARD
END:VTIMEZONE
BEGIN:VEVENT
DTSTART;TZID=UTC:20220601T110000
DTEND;TZID=UTC:20220601T123000
DTSTAMP:20260422T133328
CREATED:20220601T071801Z
LAST-MODIFIED:20220601T072427Z
UID:710-1654081200-1654086600@app-aphazwpnit.azurewebsites.net
SUMMARY:Desayuno-Coloquio ‘Parque Energético La Rábida: Hacia una Industria 4.0’
DESCRIPTION:En el espacio de La Lonja de la Innovación acogemos el Desayuno-Coloquio "Parque energético La Rábida: Hacia una industria 4.0" con Jorge Acitores\, Director de CEPSA Refinería La Rábida en el Puerto de Huelva. \nColabora: Gabitel Ingenieros \n  \n¡Inscríbete aquí! \n  \n \n 
URL:https://app-aphazwpnit.azurewebsites.net/en/evento/desayuno-coloquio-parque-energetico-la-rabida-hacia-una-industria-4-0/
LOCATION:La Lonja de la Innovación
END:VEVENT
BEGIN:VEVENT
DTSTART;VALUE=DATE:20220607
DTEND;VALUE=DATE:20220608
DTSTAMP:20260422T133328
CREATED:20220607T121357Z
LAST-MODIFIED:20220607T121357Z
UID:729-1654560000-1654646399@app-aphazwpnit.azurewebsites.net
SUMMARY:La Fundación San Pablo CEU Andalucia visita La Lonja
DESCRIPTION:El Director de Proyectos de Desarrollo Corporativo de Fundación San Pablo Andalucía CEU \, José Luis Gallardo Colchero\, y el Director de Estudios\, Juan Ignacio De la Fuente \, visitan las instalaciones de La Lonja en Puerto de Huelva para conocer las actividades que desarrollamos junto con la Directora del hub\, Rocío Díaz Pereira. \nCon su visita se pretende dar a conocer las actividades que desarrollamos. Estamos seguros de que tendremos entre las manos futuros acuerdos de colaboración tanto con las empresas de su entorno como con los alumnos del centro educativo.  \n¡Os esperamos!
URL:https://app-aphazwpnit.azurewebsites.net/en/evento/san-pablo-ceu-visita-la-lonja/
LOCATION:La Lonja de la Innovación
END:VEVENT
BEGIN:VEVENT
DTSTART;VALUE=DATE:20220608
DTEND;VALUE=DATE:20220611
DTSTAMP:20260422T133328
CREATED:20220607T143018Z
LAST-MODIFIED:20220607T143043Z
UID:731-1654646400-1654905599@app-aphazwpnit.azurewebsites.net
SUMMARY:La Lonja en el South Summit 2022
DESCRIPTION:La Lonja de la Innovación va a estar durante los días 8\, 9 y 10 de Junio de 2022 en el South Summit 2022 que se celebra en Madrid durante esos días. \nTodas aquellas empresas\, startups o emprendedores que deseen contactar con la iniciativa para conocerla mejor\, pueden tener un encuentro con la directora del hub de innovación de La Lonja\, Rocío Diaz Pereira\, pueden hacerlo escribiendo a info@lalonja.tech \n¡Os esperamos! \nPuedes conocer más sobre este evento aquí: https://www.southsummit.co/#/
URL:https://app-aphazwpnit.azurewebsites.net/en/evento/la-lonja-en-el-south-summit-2022/
LOCATION:la nave\, C. Cifuentes 5\, Madrid\, Madrid\, 28021\, España
END:VEVENT
BEGIN:VEVENT
DTSTART;VALUE=DATE:20220613
DTEND;VALUE=DATE:20220614
DTSTAMP:20260422T133328
CREATED:20220606T135528Z
LAST-MODIFIED:20220606T135528Z
UID:726-1655078400-1655164799@app-aphazwpnit.azurewebsites.net
SUMMARY:El CPIFP Profesor José Luis Graiño visita La Lonja
DESCRIPTION:Los alumnos del ciclo de Transporte y Logística del Centro Público Integrado de Formación Profesional (CPIFP) Profesor José Luis Graiño visitarán las instalaciones de La Lonja de la Innovación en el Puerto de Huelva el próximo 13 de Junio. \nLos asistentes podrán conocer la iniciativa y propuesta de valor de La Lonja. \nAdemás\, el dinamizador del programa FIWARE Tech\, Manuel Bravo Santiago\, presentará el programa a los asistentes para que puedan conocerlo en mayor detalle. \nEsperamos que los alumnos y profesores disfruten de la visita y encuentren en La Lonja un punto de encuentro para proyectos e iniciativas actuales y que puedan surgir en el futuro. \n¡Os esperamos! \n 
URL:https://app-aphazwpnit.azurewebsites.net/en/evento/el-cpifp-profesor-jose-luis-graino-visita-la-lonja/
LOCATION:La Lonja de la Innovación
END:VEVENT
BEGIN:VEVENT
DTSTART;TZID=UTC:20220615T170000
DTEND;TZID=UTC:20220615T180000
DTSTAMP:20260422T133328
CREATED:20220607T143506Z
LAST-MODIFIED:20220614T084208Z
UID:736-1655312400-1655316000@app-aphazwpnit.azurewebsites.net
SUMMARY:Charla formativa Programa FIWARE Tech a mentores La Lonja
DESCRIPTION:Nuestro dinamizador FIWARE\, Manuel Bravo Santiago\, otorgará una charla formativa a todos los mentores de La Lonja para sensibilizarles en profundidad sobre el programa FIWARE Tech que también acoge La Lonja de la Innovación. \nEsperamos impulsar este maravilloso programa para hacer partícipes a todo el ecosistema que forma parte de La Lonja y generar sinergias tecnológicas importantes. \nHora: 17:00
URL:https://app-aphazwpnit.azurewebsites.net/en/evento/charla-formativa-programa-fiware-tech-a-mentores-la-lonja/
LOCATION:La Lonja de la Innovación
END:VEVENT
BEGIN:VEVENT
DTSTART;VALUE=DATE:20220622
DTEND;VALUE=DATE:20220623
DTSTAMP:20260422T133328
CREATED:20220620T063157Z
LAST-MODIFIED:20260203T125103Z
UID:760-1655856000-1655942399@app-aphazwpnit.azurewebsites.net
SUMMARY:La Universidad Internacional de Andalucía visita La Lonja
DESCRIPTION:El día 22 de Junio visitará La Lonja de la innovación la Universidad de Andalucía. \nEn esta visita charlaremos sobre la propuesta de valor de La Lonja\, los programas disponibles\, y buscaremos sinergias entre nuestras formaciones  FIWARE y las ofrecidas por la universidad.
URL:https://app-aphazwpnit.azurewebsites.net/en/evento/la-universidad-internacional-de-andalucia-visita-la-lonja/
LOCATION:La Lonja de la Innovación
END:VEVENT
BEGIN:VEVENT
DTSTART;TZID=UTC:20220629T100000
DTEND;TZID=UTC:20220629T110000
DTSTAMP:20260422T133328
CREATED:20220603T074756Z
LAST-MODIFIED:20220603T074935Z
UID:715-1656496800-1656500400@app-aphazwpnit.azurewebsites.net
SUMMARY:Charla Xanty Elías\, Chef comprometido con innovación sostenible en la gastronomía
DESCRIPTION:El próximo miércoles 29 de Junio a las 10:00 tendremos en La Lonja de la Innovación al chef onubense de referencia\, Xanty Elías. \nAdela de Mora\, mentora de Ecosistema Emprendedor en La Lonja\, le entrevistará para conocer su experiencia como chef y emprendedor. \nXanty Elías ha sido el primer chef en conseguir una Estrella Michelin para la provincia\, y es toda eminencia en cuanto a emprendimiento e innovación sostenible aplicada a la cocina se refiere. \nEl chef ha sido reconocido con el Basque Culinary World Prize 2021 por incidir en la educación alimentaria de niños y niñas\, a través de su iniciativa 'Los Niños se Comen el Futuro' (impulsada por la Fundación Prenauta). \nAdemás\, el pasado septiembre inauguró Finca Alfoliz\, que ya cuenta con una estrella verde Michelin a la Gastronomía Sostenible\, y donde demuestra el compromiso con el medio ambiente y la gastronomía sostenible. \n¡Te esperamos en la charla! \n¡Inscríbete aquí! \n \n  \n 
URL:https://app-aphazwpnit.azurewebsites.net/en/evento/charla-xanty-elias-chef-comprometido-con-innovacion-sostenible-en-la-gastronomia/
LOCATION:La Lonja de la Innovación
END:VEVENT
END:VCALENDAR