BEGIN:VCALENDAR
VERSION:2.0
PRODID:-//La Lonja - ECPv6.15.11//NONSGML v1.0//EN
CALSCALE:GREGORIAN
METHOD:PUBLISH
X-WR-CALNAME:La Lonja
X-ORIGINAL-URL:https://app-aphazwpnit.azurewebsites.net/en/
X-WR-CALDESC:Events for La Lonja
REFRESH-INTERVAL;VALUE=DURATION:PT1H
X-Robots-Tag:noindex
X-PUBLISHED-TTL:PT1H
BEGIN:VTIMEZONE
TZID:UTC
BEGIN:STANDARD
TZOFFSETFROM:+0000
TZOFFSETTO:+0000
TZNAME:UTC
DTSTART:20210101T000000
END:STANDARD
END:VTIMEZONE
BEGIN:VEVENT
DTSTART;VALUE=DATE:20220510
DTEND;VALUE=DATE:20220511
DTSTAMP:20260422T151642
CREATED:20220509T100900Z
LAST-MODIFIED:20260205T123705Z
UID:632-1652140800-1652227199@app-aphazwpnit.azurewebsites.net
SUMMARY:Visita Fundación SURGE a las instalaciones
DESCRIPTION:Visita de la Federación Andaluza de Asociaciones SURGE a las instalaciones de La Lonja de la Innovación.
URL:https://app-aphazwpnit.azurewebsites.net/en/evento/visita-fundacion-surge-a-las-instalaciones/
LOCATION:La Lonja de la Innovación
END:VEVENT
BEGIN:VEVENT
DTSTART;TZID=UTC:20220518T100000
DTEND;TZID=UTC:20220518T113000
DTSTAMP:20260422T151642
CREATED:20220509T140358Z
LAST-MODIFIED:20260203T131325Z
UID:640-1652868000-1652873400@app-aphazwpnit.azurewebsites.net
SUMMARY:Peer Review
DESCRIPTION:Acto pensado para que las startups y empresas del Programa de Ecosistema de Innovación compartan los retos y desafíos que va afrontando como startup\, fomentando el espíritu de colaboración y comunidad local.
URL:https://app-aphazwpnit.azurewebsites.net/en/evento/peer-review/
END:VEVENT
BEGIN:VEVENT
DTSTART;TZID=UTC:20220518T120000
DTEND;TZID=UTC:20220518T120000
DTSTAMP:20260422T151642
CREATED:20220509T140136Z
LAST-MODIFIED:20251203T124926Z
UID:638-1652875200-1652875200@app-aphazwpnit.azurewebsites.net
SUMMARY:Charla Ayudas de Puertos del Estado\, fondo de capital Ports 4.0
DESCRIPTION:El día 18 de Mayo el CTO de la Autoridad Portuaria de Huelva\, Manfran Martinez\, dará una charla a las startups de la iniciativa acerca de las Ayudas de Puertos del Estado\, fondo de capital Ports 4.0. \nPuedes acceder a toda la información en https://www.ports40.es/ \, y recuerda que la convocatoria para presentación de proyectos pre comerciales está abierta hasta el 13 de Junio.
URL:https://app-aphazwpnit.azurewebsites.net/en/evento/charla-ayudas-por-puertos-del-estado-4-0/
LOCATION:La Lonja de la Innovación
END:VEVENT
BEGIN:VEVENT
DTSTART;TZID=UTC:20220524T113000
DTEND;TZID=UTC:20220524T123000
DTSTAMP:20260422T151642
CREATED:20220510T082926Z
LAST-MODIFIED:20260203T132428Z
UID:643-1653391800-1653395400@app-aphazwpnit.azurewebsites.net
SUMMARY:Presentación Programa FIWARE en la UHU
DESCRIPTION:Presentación Programa FIWARE a la comunidad universitaria en la Universidad de Huelva por parte de Manuel Bravo\, Dinamizador FIWARE de La Lonja de la Innovación. \n  \nEl acto tendrá lugar el día 24 de Mayo a las 11:30 en el Salón de grados de la ETSI.
URL:https://app-aphazwpnit.azurewebsites.net/en/evento/presentacion-programa-fiware-en-la-uhu/
LOCATION:Universidad de Huelva
END:VEVENT
BEGIN:VEVENT
DTSTART;TZID=UTC:20220526T180000
DTEND;TZID=UTC:20220526T190000
DTSTAMP:20260422T151642
CREATED:20220518T055106Z
LAST-MODIFIED:20220524T124929Z
UID:658-1653588000-1653591600@app-aphazwpnit.azurewebsites.net
SUMMARY:Charla Jaime Gil: Un camaleón en tiempos de crisis
DESCRIPTION:El próximo jueves 26 de mayo\, Jaime Gil dará la charla "Un camaleón en tiempos de crisis". Será entrevistado por Abraham Villar\, mentor de Marketing Digital de La Lonja de la Innovación. \nJaime Gil nos contará su experiencia por el camino del emprendimiento\, y cómo ha ido evolucionando su empresa\, Brutal Zapas\, durante este recorrido. \nLa charla tendrá lugar en nuestras instalaciones\, de 18:00 a 19:00 de la tarde. \n¡Inscríbete aquí!
URL:https://app-aphazwpnit.azurewebsites.net/en/evento/charla-jaime-gil-un-camaleon-en-tiempos-de-crisis/
LOCATION:La Lonja de la Innovación
END:VEVENT
END:VCALENDAR